Workbook
Name \s: #REF!
Name _BD2: #REF!
Name abc: #REF!
Name Acomp: #REF!
Name agua: #REF!
Name Banco_dados_IM: #REF!
Name bbcla: #REF!
Name Bloco1: #REF!
Name Bloco1.2: #REF!
Name Bloco1.3: #REF!
Name Bloco10: #REF!
Name Bloco11: #REF!
Name Bloco12: #REF!
Name Bloco13: #REF!
Name Bloco14: #REF!
Name Bloco15: #REF!
Name Bloco16: #REF!
Name Bloco17: #REF!
Name Bloco18: #REF!
Name Bloco19: #REF!
Name Bloco2: #REF!
Name Bloco20: #REF!
Name Bloco203: #REF!
Name Bloco21: #REF!
Name Bloco22: #REF!
Name Bloco23: #REF!
Name Bloco24: #REF!
Name Bloco25: #REF!
Name Bloco3: #REF!
Name Bloco4: #REF!
Name Bloco5: #REF!
Name Bloco6: #REF!
Name Bloco7: #REF!
Name Bloco8: #REF!
Name Bloco9: #REF!
Name Cat: #REF!
Name cod: #REF!
Name COMPOSIÇÃO: #REF!
Name CONSTRUÇÕES_E_COMÉRCIO: #REF!
Name cpu: COMPOSIÇÃO!$B:$J
Name dados: #REF!
Name dados10: #REF!
Name dados2: #REF!
Name dados3: #REF!
Name dados5: #REF!
Name DADOS6: #REF!
Name EDER: #REF!
Name ghj: #REF!
Name INS: #REF!
Name INSUMOS: #REF!
Name JTJ: #REF!
Name K1geral: '[3]PLANILHA QUANTITATIVA'!#REF!
Name lista: #REF!
Name lista2: #REF!
Name ORC: 'MEMORIA DE CALCULO'!$B$16:$E$50
Name ORC: PLANILHA!$B$16:$I$50
Name planuilha: #REF!
Name RESVALORES: #REF!
Name SED: #REF!
Name SIN: #REF!

Sheet RESUMO GERAL
A8: OBRA: REFORMA DO TERMINAL HIDROVIÁRIO DE ITAITUBA
A9: LOCAL: ITAITUBA/PA
A10: TABELAS DE REFERÊNCIA: SINAPI ABRIL/2022 - SEDOP MAIO/2022 - (DESONERADAS)
A11: DATA: 22/04/2022
A13: RESUMO GERAL
A14: ITEM | B14: DESCRIÇÃO | C14: TOTAL (R$) | D14: %
A15: 1 | B15: =PLANILHA!D15 -> SERVIÇOS INICIAIS | C15: =PLANILHA!I15 -> 15702.1 | D15: =C15/$C$28 -> 0.049750178
A16: 2 | B16: =PLANILHA!D20 -> ADMINISTRAÇÃO DA OBRA | C16: =PLANILHA!I20 -> 22933.22 | D16: =C16/$C$28 -> 0.072661095
A17: 3 | B17: =PLANILHA!D22 -> DEMOLIÇÃO E RETIRADA | C17: =PLANILHA!I22 -> 11923.88 | D17: =C17/$C$28 -> 0.037779351
A18: 4 | B18: =PLANILHA!D28 -> PAREDES E PAINEIS | C18: =PLANILHA!I28 -> 17262.56 | D18: =C18/$C$28 -> 0.054694304
A19: 5 | B19: =PLANILHA!D30 -> COBERTURA | C19: =PLANILHA!I30 -> 97376.36 | D19: =C19/$C$28 -> 0.30852505
A20: 6 | B20: =PLANILHA!D38 -> ESQUADRIAS | C20: =PLANILHA!I38 -> 9020.46 | D20: =C20/$C$28 -> 0.028580221
A21: 7 | B21: =PLANILHA!D42 -> REVESTIMENTOS | C21: =PLANILHA!I42 -> 3114.6 | D21: =C21/$C$28 -> 0.0098682281
A22: 8 | B22: =PLANILHA!D44 -> PISO | C22: =PLANILHA!I44 -> 28297.07 | D22: =C22/$C$28 -> 0.089655796
A23: 9 | B23: =PLANILHA!D49 -> PINTURA | C23: =PLANILHA!I49 -> 62189.1 | D23: =C23/$C$28 -> 0.19703854
A24: 10 | B24: =PLANILHA!D55 -> INSTALAÇÕES ELÉTRICAS | C24: =PLANILHA!I55 -> 7625.72 | D24: =C24/$C$28 -> 0.024161159
A25: 11 | B25: =PLANILHA!D59 -> INSTALAÇÕES DE AR CONDICIONADO | C25: =PLANILHA!I59 -> 23367.9 | D25: =C25/$C$28 -> 0.074038325
A26: 12 | B26: =PLANILHA!D61 -> SERRALHERIA | C26: =PLANILHA!I61 -> 12838.02 | D26: =C26/$C$28 -> 0.040675692
A27: 13 | B27: =PLANILHA!D63 -> LIMPEZA FINAL | C27: =PLANILHA!I63 -> 3967.98 | D27: =C27/$C$28 -> 0.012572058
A28: TOTAL GERAL (R$) | C28: =SUM(C15:C27) -> 315618.97 | D28: =SUM(D15:D27) -> 1

Sheet PLANILHA
A7: ='RESUMO GERAL'!$A$8 -> OBRA: REFORMA DO TERMINAL HIDROVIÁRIO DE ITAITUBA
A8: ='RESUMO GERAL'!$A$9 -> LOCAL: ITAITUBA/PA
A9: ='RESUMO GERAL'!$A$10 -> TABELAS DE REFERÊNCIA: SINAPI ABRIL/2022 - SEDOP MAIO/2022 - (DESONERADAS)
A10: ='RESUMO GERAL'!$A$11 -> DATA: 22/04/2022
A12: PLANILHA DE QUANTIDADES E PREÇOS
G13: BDI SERVIÇOS | I13: 0.305
A14: ITEM | B14: CÓDIGO | C14: FONTE | D14: DESCRIÇÃO | E14: UNIDADE | F14: QUANT. | G14: CUSTO UNITÁRIO (R$) | H14: PREÇO UNITÁRIO (R$) | I14: PREÇO TOTAL (R$)
A15: 1 | D15: SERVIÇOS INICIAIS | I15: =SUM(I16:I19) -> 15702.1
A16: 1.1 | B16: 11170 | C16: SEDOP | D16: Licenças e taxas da obra | E16: cj | F16: 1 | G16: 2866.38 | H16: =ROUND(G16*(1+$I$13),2) -> 3740.63 | I16: =ROUND(H16*F16,2) -> 3740.63
A17: 1.2 | B17: C 01 | C17: CPU | D17: Mobilização e Desmobilização de Pessoal e Equipamentos | E17: un | F17: 1 | G17: =COMPOSIÇÃO!H21 -> 2363.9 | H17: =ROUND(G17*(1+$I$13),2) -> 3084.89 | I17: =ROUND(H17*F17,2) -> 3084.89
A18: 1.3 | B18: 10005 | C18: SEDOP | D18: Barracão de madeira/Almoxarifado | E18: m² | F18: 20 | G18: 287.22 | H18: =ROUND(G18*(1+$I$13),2) -> 374.82 | I18: =ROUND(H18*F18,2) -> 7496.4
A19: 1.4 | B19: 11340 | C19: SEDOP | D19: Placa de obra em lona com plotagem de gráfica | E19: m² | F19: 6 | G19: 176.27 | H19: =ROUND(G19*(1+$I$13),2) -> 230.03 | I19: =ROUND(H19*F19,2) -> 1380.18
A20: 2 | D20: ADMINISTRAÇÃO DA OBRA | I20: =SUM(I21:I21) -> 22933.22
A21: 2.1 | B21: C 02 | C21: CPU | D21: Administração Local | E21: un | F21: 1 | G21: =COMPOSIÇÃO!H27 -> 17573.35 | H21: =ROUND(G21*(1+$I$13),2) -> 22933.22 | I21: =ROUND(H21*F21,2) -> 22933.22
A22: 3 | D22: DEMOLIÇÃO E RETIRADA | I22: =SUM(I23:I27) -> 11923.88
A23: 3.1 | B23: 21533 | C23: SEDOP | D23: Retirada de divisória (painel/vidro/painel) | E23: m² | F23: 31.6 | G23: 11.09 | H23: =ROUND(G23*(1+$I$13),2) -> 14.47 | I23: =ROUND(H23*F23,2) -> 457.25
A24: 3.2 | B24: 97647 | C24: SINAPI | D24: Retirada de telhas de barro | E24: m² | F24: =397.59+221.65 -> 619.24 | G24: 2.68 | H24: =ROUND(G24*(1+$I$13),2) -> 3.5 | I24: =ROUND(H24*F24,2) -> 2167.34
A25: 3.3 | B25: 20235 | C25: SEDOP | D25: Retirada de piso ceramico, inclusive camada regularizadora | E25: m² | F25: 96 | G25: 7.68 | H25: =ROUND(G25*(1+$I$13),2) -> 10.02 | I25: =ROUND(H25*F25,2) -> 961.92
A26: 3.4 | B26: 21530 | C26: SEDOP | D26: Retirada de rodapé cerâmico | E26: m | F26: 42 | G26: 3.41 | H26: =ROUND(G26*(1+$I$13),2) -> 4.45 | I26: =ROUND(H26*F26,2) -> 186.9
A27: 3.5 | B27: 20174 | C27: SEDOP | D27: Retirada de entulho - manualmente (incluindo caixa coletora) | E27: m³ | F27: =((F23*0.03)+(F24*0.1)+(F25*0.05)+(F26*0.1*0.03)*1.3) -> 67.8358 | G27: 92.07 | H27: =ROUND(G27*(1+$I$13),2) -> 120.15 | I27: =ROUND(H27*F27,2) -> 8150.47
A28: 4 | D28: PAREDES E PAINEIS | I28: =SUM(I29) -> 17262.56
A29: 4.1 | B29: 61354 | C29: SEDOP | D29: Divisória em gesso acartonado e= 7cm | E29: m² | F29: 112 | G29: 118.11 | H29: =ROUND(G29*(1+$I$13),2) -> 154.13 | I29: =ROUND(H29*F29,2) -> 17262.56
A30: 5 | D30: COBERTURA | I30: =SUM(I31:I37) -> 97376.36
A31: 5.1 | B31: 70049 | C31: SEDOP | D31: Cobertura - telha de barro paulista ou planatex | E31: m² | F31: =397.59+221.65 -> 619.24 | G31: 67.15 | H31: =ROUND(G31*(1+$I$13),2) -> 87.63 | I31: =ROUND(H31*F31,2) -> 54264
A32: 5.2 | B32: 94221 | C32: SINAPI | D32: Cumeeira de barro | E32: m | F32: =70+43 -> 113 | G32: 24.39 | H32: =ROUND(G32*(1+$I$13),2) -> 31.83 | I32: =ROUND(H32*F32,2) -> 3596.79
A33: 5.3 | B33: 70241 | C33: SEDOP | D33: Encaliçamento de telha ceramica | E33: m | F33: 113 | G33: 12.56 | H33: =ROUND(G33*(1+$I$13),2) -> 16.39 | I33: =ROUND(H33*F33,2) -> 1852.07
A34: 5.4 | B34: 71360 | C34: SEDOP | D34: Estrutura metálica p/ cobertura - (Incl. pintura anti-corrosiva) | E34: kg | F34: 97.5 | G34: 25.07 | H34: =ROUND(G34*(1+$I$13),2) -> 32.72 | I34: =ROUND(H34*F34,2) -> 3190.2
A35: 5.5 | B35: 70030 | C35: SEDOP | D35: Cobertura - telha aluminio trapezoidal e= 0,5mm | E35: m² | F35: 65 | G35: 50.28 | H35: =ROUND(G35*(1+$I$13),2) -> 65.62 | I35: =ROUND(H35*F35,2) -> 4265.3
A36: 5.6 | B36: 70785 | C36: SEDOP | D36: Ripamento para sub cobertura (manta) | E36: m² | F36: 400 | G36: 33.41 | H36: =ROUND(G36*(1+$I$13),2) -> 43.6 | I36: =ROUND(H36*F36,2) -> 17440
A37: 5.7 | B37: 80783 | C37: SEDOP | D37: Manta para sub cobertura | E37: un | F37: 400 | G37: 24.46 | H37: =ROUND(G37*(1+$I$13),2) -> 31.92 | I37: =ROUND(H37*F37,2) -> 12768
A38: 6 | D38: ESQUADRIAS | I38: =SUM(I39:I41) -> 9020.46
A39: 6.1 | B39: 90482 | C39: SEDOP | D39: Porta mad. compens. revest. formica c/ caix. simples | E39: m² | F39: 10.08 | G39: 375.72 | H39: =ROUND(G39*(1+$I$13),2) -> 490.31 | I39: =ROUND(H39*F39,2) -> 4942.32
A40: 6.2 | B40: 161391 | C40: SEDOP | D40: Vidro temperado incolor e= 6mm com ferragens | E40: m² | F40: 5 | G40: 461.79 | H40: =ROUND(G40*(1+$I$13),2) -> 602.64 | I40: =ROUND(H40*F40,2) -> 3013.2
A41: 6.3 | B41: 91306 | C41: SINAPI | D41: Fechadura para porta interna | E41: un | F41: 6 | G41: 136.01 | H41: =ROUND(G41*(1+$I$13),2) -> 177.49 | I41: =ROUND(H41*F41,2) -> 1064.94
A42: 7 | D42: REVESTIMENTOS | I42: =SUM(I43) -> 3114.6
A43: 7.2 | B43: 110644 | C43: SEDOP | D43: Revestimento Cerâmico Padrão Médio | E43: m² | F43: 29 | G43: 82.3 | H43: =ROUND(G43*(1+$I$13),2) -> 107.4 | I43: =ROUND(H43*F43,2) -> 3114.6
A44: 8 | D44: PISO | I44: =SUM(I45:I48) -> 28297.07
A45: 8.1 | B45: 130728 | C45: SEDOP | D45: PisoTátil direcional na cor amarelo 25x25 premoldado (16 unidades) | E45: m² | F45: 35 | G45: 119.58 | H45: =ROUND(G45*(1+$I$13),2) -> 156.05 | I45: =ROUND(H45*F45,2) -> 5461.75
A46: 8.2 | B46: 130112 | C46: SEDOP | D46: Concreto simples c/ seixo e=5cm traço 1:2:3 | E46: m² | F46: 10 | G46: 67.66 | H46: =ROUND(G46*(1+$I$13),2) -> 88.3 | I46: =ROUND(H46*F46,2) -> 883
A47: 8.3 | B47: 130110 | C47: SEDOP | D47: Camada regularizadora no traço 1:4 | E47: m² | F47: 96 | G47: 36.15 | H47: =ROUND(G47*(1+$I$13),2) -> 47.18 | I47: =ROUND(H47*F47,2) -> 4529.28
...

Sheet MEMORIA DE CALCULO
A7: ='RESUMO GERAL'!$A$8 -> OBRA: REFORMA DO TERMINAL HIDROVIÁRIO DE ITAITUBA
A8: ='RESUMO GERAL'!$A$9 -> LOCAL: ITAITUBA/PA
A9: ='RESUMO GERAL'!$A$10 -> TABELAS DE REFERÊNCIA: SINAPI ABRIL/2022 - SEDOP MAIO/2022 - (DESONERADAS)
A10: ='RESUMO GERAL'!$A$11 -> DATA: 22/04/2022
A12: PLANILHA DE QUANTIDADES E PREÇOS
A14: ITEM | B14: DESCRIÇÃO | C14: UNIDADE | D14: QUANT. | E14: CALCULO
A15: 1 | B15: SERVIÇOS INICIAIS
A16: 1.1 | B16: Licenças e taxas da obra | C16: cj | D16: 1 | E16: 1
A17: 1.2 | B17: Mobilização e Desmobilização de Pessoal e Equipamentos | C17: un | D17: 1 | E17: 1
A18: 1.3 | B18: Barracão de madeira/Almoxarifado | C18: m² | D18: 20 | E18: 4,00m x 5,00m = 20,00m²
A19: 1.4 | B19: Placa de obra em lona com plotagem de gráfica | C19: m² | D19: 6 | E19: 2,00m X 3,00m = 6 M²
A20: 2 | B20: ADMINISTRAÇÃO DA OBRA
A21: 2.1 | B21: Administração Local | C21: un | D21: 1 | E21: C 02
A22: 3 | B22: DEMOLIÇÃO E RETIRADA
A23: 3.1 | B23: Retirada de divisória (painel/vidro/painel) | C23: m² | D23: 31.6 | E23: 11,55m² + 5und x 4,02m² = 31,60 m² ( box de passagens ) | G23: m² | H23: 31.6 | I23: 0.11 | J23: =H23*I23 -> 3.476
A24: 3.2 | B24: Retirada de telhas de barro | C24: m² | D24: =397.59+221.65 -> 619.24 | E24: 23,61 x 16,84 = 397,59m² ( Telhado da Sala de embarque e de carga) 14,30m x 15,50m = 221,65 m² (Telhado do terminal de espera ) | G24: m² | H24: =397.59+221.65 -> 619.24 | I24: 0.1 | J24: =H24*I24 -> 61.924
A25: 3.3 | B25: Retirada de piso ceramico, inclusive camada regularizadora | C25: m² | D25: 96 | E25: SALA DE EMBARQUE 14,44m x 6,65m= 96,00 m² | G25: m² | H25: 96 | I25: 0.025 | J25: =H25*I25 -> 2.4
A26: 3.4 | B26: Retirada de rodapé cerâmico | C26: m | D26: 42 | E26: 14,44 + 6,65 x 2= 42,00 m | G26: m | H26: 42 | I26: =0.025*0.04 -> 0.001 | J26: =H26*I26 -> 0.042
A27: 3.5 | B27: Retirada de entulho - manualmente (incluindo caixa coletora) | C27: m³ | D27: =((D23*0.03)+(D24*0.1)+(D25*0.05)+(D26*0.1*0.03)*1.3) -> 67.8358 | E27: ((31,60m² x 0,11m) + (619,24m x 0,10m) + (96,00m² x 0,025m) + (42,00m x 0,025m x 0,04m)) = 67,84m³ | G27: m³ | J27: =SUM(J23:J26) -> 67.842
A28: 4 | B28: PAREDES E PAINEIS
A29: 4.1 | B29: Divisória em gesso acartonado e= 7cm | C29: m² | D29: 112 | E29: ((36,76m x 2,5m) + (5und x 4,02m²)) = 112,00 m² ( box de passagens )
A30: 5 | B30: COBERTURA
A31: 5.1 | B31: Cobertura - telha de barro paulista ou planatex | C31: m² | D31: =397.59+221.65 -> 619.24 | E31: 23,61 x 16,84 = 397,59m² ( Telhado da Sala de embarque e de caraga ) 14,30m x 15,50m = 221,65 m² (Telhado do terminal de espera )
A32: 5.2 | B32: Cumeeira de barro | C32: m | D32: =70+43 -> 113 | E32: 43m + 17m + 10m = 70m ( SALA DE EMBARQUE E DE CARGA ) 10,30m x 4 +1,80m = 43m ( TERMINAL DE ESPERA )
A33: 5.3 | B33: Encaliçamento de telha ceramica | C33: m | D33: 113 | E33: 43m + 17m + 10m = 70m ( SALA DE EMBARQUE E DE CARGA ) 10,30m x 4 +1,80m = 43m ( TERMINAL DE ESPERA )
A34: 5.4 | B34: Estrutura metálica p/ cobertura - (Incl. pintura anti-corrosiva) | C34: kg | D34: 97.5 | E34: 19,5 KG x 5 und = 97,5 kg (Estrutura para o telhado da balsa dos barcos )
A35: 5.5 | B35: Cobertura - telha aluminio trapezoidal e= 0,5mm | C35: m² | D35: 65 | E35: 13m x 5 m = 65m² (Telhado da balsa dos barcos )
A36: 5.6 | B36: Ripamento para sub cobertura (manta) | C36: m² | D36: 400 | E36: 23,75 x 16,84 = 400,00m² ( Telhado da Sala de embarque e de caraga )
A37: 5.7 | B37: Manta para sub cobertura | C37: un | D37: 400 | E37: 23,75 x 16,84 = 400,00m² ( Telhado da Sala de embarque e de caraga )
A38: 6 | B38: ESQUADRIAS
A39: 6.1 | B39: Porta mad. compens. revest. formica c/ caix. simples | C39: m² | D39: 10.08 | E39: ((2,1mX0,8m)x6und) = 10,08m² (SALA EMBARQUE E DE CARGA )
A40: 6.2 | B40: Vidro temperado incolor e= 6mm com ferragens | C40: m² | D40: 5 | E40: 1mx1mx5un = 5m² ( vidro das portas dos box de passagens )
A41: 6.3 | B41: Fechadura para porta interna | C41: un | D41: 6 | E41: 6 unidades
A42: 7 | B42: REVESTIMENTOS
A43: 7.2 | B43: Revestimento Cerâmico Padrão Médio | C43: m² | D43: 29 | E43: (16,11m x 1,80m) = 29,00m²
A44: 8 | B44: PISO
A45: 8.1 | B45: PisoTátil direcional na cor amarelo 25x25 premoldado (16 unidades) | C45: m² | D45: 35 | E45: 140,00m x 0,25m= 35,00m²
A46: 8.2 | B46: Concreto simples c/ seixo e=5cm traço 1:2:3 | C46: m² | D46: 10 | E46: 115,94 x 0,08= 10,00m³
A47: 8.3 | B47: Camada regularizadora no traço 1:4 | C47: m² | D47: 96 | E47: 14,44 x 6,65 = 96,00 m² ( SALA DE EMBARQUE)
A48: 8.4 | B48: Porcelanato (polido) - Padrão Médio | C48: m² | D48: 96 | E48: 14,44 x 6,65 = 96,00 m² ( SALA DE EMBARQUE)
...

Sheet COMPOSIÇÃO
A8: ='RESUMO GERAL'!$A$8 -> OBRA: REFORMA DO TERMINAL HIDROVIÁRIO DE ITAITUBA
A9: ='RESUMO GERAL'!$A$9 -> LOCAL: ITAITUBA/PA
A10: ='RESUMO GERAL'!$A$10 -> TABELAS DE REFERÊNCIA: SINAPI ABRIL/2022 - SEDOP MAIO/2022 - (DESONERADAS)
A11: ='RESUMO GERAL'!$A$11 -> DATA: 22/04/2022
D14: Composições de custo unitário
B17: C 01 | D17: Mobilização e Desmobilização de Pessoal e Equipamentos | G17: UNIDADE: | H17: un | I17: =H21 -> 2363.9
A18: CÓDIGO | B18: FONTE | C18: TIPO | D18: Descrição | E18: UN | F18: COEFICIENTE | G18: CUSTO UNITÁRIO (R$) | H18: SUBTOTAL (R$)
A19: 73467 | B19: SINAPI | C19: CA | D19: Caminhão toco, pbt 14.300 kg, carga útil máx. 9.710 kg, dist. entre eixos 3,56 m, potência 185 cv, inclusive carroceria fixa aberta de madeira p/ transporte geral de carga seca, dimen. aprox. 2,50 x 6,50 x 0,50 m - chp diurno. af_06/2014 | E19: chp | F19: 10 | G19: 168.11 | H19: =ROUND(F19*G19,2) -> 1681.1
A20: 280026 | B20: SEDOP | C20: CA | D20: Servente com encargos complementares | E20: h | F20: 40 | G20: 17.07 | H20: =ROUND(F20*G20,2) -> 682.8
A21: CUSTO TOTAL DO ITEM S/ BDI | H21: =SUM(H19:H20) -> 2363.9
B23: C 02 | D23: Administração Local | G23: UNIDADE: | H23: un | I23: =H27 -> 17573.35
A24: CÓDIGO | B24: FONTE | C24: TIPO | D24: Descrição | E24: UN | F24: COEFICIENTE | G24: CUSTO UNITÁRIO (R$) | H24: SUBTOTAL (R$)
A25: 200001 | B25: SEDOP | C25: CA | D25: Engenheiro civil de obra junior com encargos complementares | E25: MÊS | F25: 0.5 | G25: 15734 | H25: =ROUND(F25*G25,2) -> 7867
A26: 200004 | B26: SEDOP | C26: CA | D26: Encarregado geral de obras com encargos complementares | E26: MÊS | F26: 3 | G26: 3235.45 | H26: =ROUND(F26*G26,2) -> 9706.35
A27: CUSTO TOTAL DO ITEM S/ BDI | H27: =SUM(H25:H26) -> 17573.35

Sheet CRONOGRAMA GERAL
A8: ='RESUMO GERAL'!$A$8 -> OBRA: REFORMA DO TERMINAL HIDROVIÁRIO DE ITAITUBA
A9: ='RESUMO GERAL'!$A$9 -> LOCAL: ITAITUBA/PA
A10: ='RESUMO GERAL'!$A$10 -> TABELAS DE REFERÊNCIA: SINAPI ABRIL/2022 - SEDOP MAIO/2022 - (DESONERADAS)
A11: ='RESUMO GERAL'!$A$11 -> DATA: 22/04/2022
A13: CRONOGRAMA FÍSICO-FINANCEIRO
A14: ITEM | B14: DESCRIÇÃO | C14: MESES | F14: TOTAL
C15: 1 | D15: 2 | E15: 3
A16: 1 | B16: ='RESUMO GERAL'!B15 -> SERVIÇOS INICIAIS | C16: 0.95 | E16: 0.05 | F16: =SUM(C16:E16) -> 1
C18: =C16*$F$18 -> 14916.995 | D18: =D16*$F$18 -> 0 | E18: =E16*$F$18 -> 785.105 | F18: ='RESUMO GERAL'!C15 -> 15702.1 | G18: =C18+E18 -> 15702.1
A19: 2 | B19: ='RESUMO GERAL'!B16 -> ADMINISTRAÇÃO DA OBRA | C19: 0.35 | D19: 0.4 | E19: 0.25 | F19: =SUM(C19:E19) -> 1
C21: =C19*$F$21 -> 8026.627 | D21: =D19*$F$21 -> 9173.288 | E21: =E19*$F$21 -> 5733.305 | F21: ='RESUMO GERAL'!C16 -> 22933.22 | G21: =C21+D21+E21 -> 22933.22
A22: 3 | B22: ='RESUMO GERAL'!B17 -> DEMOLIÇÃO E RETIRADA | C22: 1 | F22: =SUM(C22:E22) -> 1
C24: =C22*$F$24 -> 11923.88 | D24: =D22*$F$24 -> 0 | E24: =E22*$F$24 -> 0 | F24: ='RESUMO GERAL'!C17 -> 11923.88
A25: 4 | B25: ='RESUMO GERAL'!B18 -> PAREDES E PAINEIS | D25: 1 | F25: =SUM(C25:E25) -> 1
C27: =C25*$F$27 -> 0 | D27: =D25*$F$27 -> 17262.56 | E27: =E25*$F$27 -> 0 | F27: ='RESUMO GERAL'!C18 -> 17262.56
A28: 5 | B28: ='RESUMO GERAL'!B19 -> COBERTURA | C28: 0.7 | D28: 0.3 | F28: =SUM(C28:E28) -> 1
C30: =C28*$F$30 -> 68163.452 | D30: =D28*$F$30 -> 29212.908 | E30: =E28*$F$30 -> 0 | F30: ='RESUMO GERAL'!C19 -> 97376.36 | G30: =C30+D30 -> 97376.36
A31: 6 | B31: ='RESUMO GERAL'!B20 -> ESQUADRIAS | D31: 0.7 | E31: 0.3 | F31: =SUM(C31:E31) -> 1
C33: =C31*$F$33 -> 0 | D33: =D31*$F$33 -> 6314.322 | E33: =E31*$F$33 -> 2706.138 | F33: ='RESUMO GERAL'!C20 -> 9020.46 | G33: =D33+E33 -> 9020.46
A34: 7 | B34: ='RESUMO GERAL'!B21 -> REVESTIMENTOS | D34: 1 | F34: =SUM(C34:E34) -> 1
C36: =C34*$F$36 -> 0 | D36: =D34*$F$36 -> 3114.6 | E36: =E34*$F$36 -> 0 | F36: ='RESUMO GERAL'!C21 -> 3114.6
A37: 8 | B37: ='RESUMO GERAL'!B22 -> PISO | D37: 0.5 | E37: 0.5 | F37: =SUM(C37:E37) -> 1
C39: =C37*$F$39 -> 0 | D39: =D37*$F$39 -> 14148.535 | E39: =E37*$F$39 -> 14148.535 | F39: ='RESUMO GERAL'!C22 -> 28297.07 | G39: =D39+E39 -> 28297.07
A40: 9 | B40: ='RESUMO GERAL'!B23 -> PINTURA | D40: 0.7 | E40: 0.3 | F40: =SUM(C40:E40) -> 1
C42: =C40*$F$42 -> 0 | D42: =D40*$F$42 -> 43532.37 | E42: =E40*$F$42 -> 18656.73 | F42: ='RESUMO GERAL'!C23 -> 62189.1 | G42: =D42+E42 -> 62189.1
A43: 10 | B43: ='RESUMO GERAL'!B24 -> INSTALAÇÕES ELÉTRICAS | E43: 1 | F43: =SUM(C43:E43) -> 1
C45: =C43*$F$45 -> 0 | D45: =D43*$F$45 -> 0 | E45: =E43*$F$45 -> 7625.72 | F45: ='RESUMO GERAL'!C24 -> 7625.72
A46: 11 | B46: ='RESUMO GERAL'!B25 -> INSTALAÇÕES DE AR CONDICIONADO | E46: 1 | F46: =SUM(C46:E46) -> 1
C48: =C46*$F$48 -> 0 | D48: =D46*$F$48 -> 0 | E48: =E46*$F$48 -> 23367.9 | F48: ='RESUMO GERAL'!C25 -> 23367.9
A49: 12 | B49: ='RESUMO GERAL'!B26 -> SERRALHERIA | E49: 1 | F49: =SUM(C49:E49) -> 1
C51: =C49*$F$51 -> 0 | D51: =D49*$F$51 -> 0 | E51: =E49*$F$51 -> 12838.02 | F51: ='RESUMO GERAL'!C26 -> 12838.02
A52: 13 | B52: ='RESUMO GERAL'!B27 -> LIMPEZA FINAL | E52: 1 | F52: 1
E54: ='RESUMO GERAL'!C27 -> 3967.98 | F54: ='RESUMO GERAL'!C27 -> 3967.98
A55: TOTAL SIMPLES | C55: =C18+C21+C27+C30+C33+C36+C39+C42+C45+C48+C51+C24 -> 103030.95 | D55: =D18+D21+D27+D30+D33+D36+D39+D42+D45+D48+D51+D24 -> 122758.58 | E55: =E18+E21+E27+E30+E33+E36+E39+E42+E45+E48+E51+E24+E54 -> 89829.433 | F55: =SUM(F18,F21,F24,F27,F30,F33,F36,F39,F42,F45,F48,F51,F54) -> 315618.97
A56: % SIMPLES | C56: =C55/$F$55 -> 0.32644094 | D56: =D55/$F$55 -> 0.38894552 | E56: =E55/$F$55 -> 0.28461354 | F56: =F55/F55 -> 1
A57: TOTAL ACUMULADO | C57: =SUM($C$55:C55) -> 103030.95 | D57: =C57+D55 -> 225789.54 | E57: =D57+E55 -> 315618.97
A58: % ACUMULADO | C58: =SUM($C$56:C56) -> 0.32644094 | D58: =C58+D56 -> 0.71538646 | E58: =D58+E56 -> 1
C71: 1 mês | D71: 2 mês
C72: =C55+D55 -> 225789.54 | D72: =E55 -> 89829.433 | F72: =SUM(C72:D72) -> 315618.97
C73: =ROUND(C72/$F$72,2) -> 0.72 | D73: =ROUND(D72/$F$72,2) -> 0.28
...

Sheet CRONOGRAMA REFORMA
A7: GOVERNO DO ESTADO DO PARÁ
A8: SECRETARIA DE DESENVOLVIMENTO URBANO E OBRAS PÚBLICAS - SEDOP
A9: DIRETORIA TÉCNICA - DITEC
A10: COORDENADORIA DE ORÇAMENTOS E CUSTOS - COCU
A12: ='RESUMO GERAL'!$A$8 -> OBRA: REFORMA DO TERMINAL HIDROVIÁRIO DE ITAITUBA
A13: ='RESUMO GERAL'!$A$9 -> LOCAL: ITAITUBA/PA
A14: ='RESUMO GERAL'!$A$10 -> TABELAS DE REFERÊNCIA: SINAPI ABRIL/2022 - SEDOP MAIO/2022 - (DESONERADAS)
A15: ='RESUMO GERAL'!$A$11 -> DATA: 22/04/2022
A18: CRONOGRAMA FÍSICO-FINANCEIRO
A19: ITEM | B19: DESCRIÇÃO | C19: MESES | R19: TOTAL
C20: 1 | D20: 2 | E20: 3 | F20: 4 | G20: 5 | H20: 6 | I20: 7 | J20: 8 | K20: 9 | L20: 10 | M20: 11 | N20: 12 | O20: 13 | P20: 14 | Q20: 15
A21: 1 | B21: =#REF! -> #REF! | R21: =SUM(C21:Q21) -> 0
C23: =IF(C21<>0,C21*$R23,"") | D23: =IF(D21<>0,D21*$R23,"") | E23: =IF(E21<>0,E21*$R23,"") | F23: =IF(F21<>0,F21*$R23,"") | G23: =IF(G21<>0,G21*$R23,"") | H23: =IF(H21<>0,H21*$R23,"") | I23: =IF(I21<>0,I21*$R23,"") | J23: =IF(J21<>0,J21*$R23,"") | K23: =IF(K21<>0,K21*$R23,"") | P23: =IF(P21<>0,P21*$R23,"") | Q23: =IF(Q21<>0,Q21*$R23,"") | R23: =#REF! -> #REF! | S23: 1 | T23: =VLOOKUP(S23,resumoreforma,3,0) -> #NAME? | U23: =R23=T23 -> #REF!
A24: 2 | B24: =#REF! -> #REF! | R24: =SUM(C24:Q24) -> 0
C26: =IF(C24<>0,C24*$R26,"") | D26: =IF(D24<>0,D24*$R26,"") | E26: =IF(E24<>0,E24*$R26,"") | F26: =IF(F24<>0,F24*$R26,"") | G26: =IF(G24<>0,G24*$R26,"") | H26: =IF(H24<>0,H24*$R26,"") | I26: =IF(I24<>0,I24*$R26,"") | J26: =IF(J24<>0,J24*$R26,"") | K26: =IF(K24<>0,K24*$R26,"") | P26: =IF(P24<>0,P24*$R26,"") | Q26: =IF(Q24<>0,Q24*$R26,"") | R26: =#REF! -> #REF! | S26: 2 | T26: =VLOOKUP(S26,resumoreforma,3,0) -> #NAME? | U26: =R26=T26 -> #REF!
A27: 3 | B27: =#REF! -> #REF! | R27: =SUM(C27:Q27) -> 0
C29: =IF(C27<>0,C27*$R29,"") | D29: =IF(D27<>0,D27*$R29,"") | E29: =IF(E27<>0,E27*$R29,"") | F29: =IF(F27<>0,F27*$R29,"") | G29: =IF(G27<>0,G27*$R29,"") | H29: =IF(H27<>0,H27*$R29,"") | I29: =IF(I27<>0,I27*$R29,"") | J29: =IF(J27<>0,J27*$R29,"") | K29: =IF(K27<>0,K27*$R29,"") | P29: =IF(P27<>0,P27*$R29,"") | Q29: =IF(Q27<>0,Q27*$R29,"") | R29: =#REF! -> #REF! | S29: 3 | T29: =VLOOKUP(S29,resumoreforma,3,0) -> #NAME? | U29: =R29=T29 -> #REF!
A30: 4 | B30: =#REF! -> #REF! | R30: =SUM(C30:Q30) -> 0
C32: =IF(C30<>0,C30*$R32,"") | D32: =IF(D30<>0,D30*$R32,"") | E32: =IF(E30<>0,E30*$R32,"") | F32: =IF(F30<>0,F30*$R32,"") | G32: =IF(G30<>0,G30*$R32,"") | H32: =IF(H30<>0,H30*$R32,"") | I32: =IF(I30<>0,I30*$R32,"") | J32: =IF(J30<>0,J30*$R32,"") | K32: =IF(K30<>0,K30*$R32,"") | P32: =IF(P30<>0,P30*$R32,"") | Q32: =IF(Q30<>0,Q30*$R32,"") | R32: =#REF! -> #REF! | S32: 4 | T32: =VLOOKUP(S32,resumoreforma,3,0) -> #NAME? | U32: =R32=T32 -> #REF!
A33: 5 | B33: =#REF! -> #REF! | R33: =SUM(C33:Q33) -> 0
C35: =IF(C33<>0,C33*$R35,"") | D35: =IF(D33<>0,D33*$R35,"") | E35: =IF(E33<>0,E33*$R35,"") | F35: =IF(F33<>0,F33*$R35,"") | G35: =IF(G33<>0,G33*$R35,"") | H35: =IF(H33<>0,H33*$R35,"") | I35: =IF(I33<>0,I33*$R35,"") | J35: =IF(J33<>0,J33*$R35,"") | K35: =IF(K33<>0,K33*$R35,"") | P35: =IF(P33<>0,P33*$R35,"") | Q35: =IF(Q33<>0,Q33*$R35,"") | R35: =#REF! -> #REF! | S35: 5 | T35: =VLOOKUP(S35,resumoreforma,3,0) -> #NAME? | U35: =R35=T35 -> #REF!
A36: 6 | B36: =#REF! -> #REF! | R36: =SUM(C36:Q36) -> 0
C38: =IF(C36<>0,C36*$R38,"") | D38: =IF(D36<>0,D36*$R38,"") | E38: =IF(E36<>0,E36*$R38,"") | F38: =IF(F36<>0,F36*$R38,"") | G38: =IF(G36<>0,G36*$R38,"") | H38: =IF(H36<>0,H36*$R38,"") | I38: =IF(I36<>0,I36*$R38,"") | J38: =IF(J36<>0,J36*$R38,"") | K38: =IF(K36<>0,K36*$R38,"") | P38: =IF(P36<>0,P36*$R38,"") | Q38: =IF(Q36<>0,Q36*$R38,"") | R38: =#REF! -> #REF! | S38: 6 | T38: =VLOOKUP(S38,resumoreforma,3,0) -> #NAME? | U38: =R38=T38 -> #REF!
A39: 7 | B39: =#REF! -> #REF! | R39: =SUM(C39:Q39) -> 0
C41: =IF(C39<>0,C39*$R41,"") | D41: =IF(D39<>0,D39*$R41,"") | E41: =IF(E39<>0,E39*$R41,"") | F41: =IF(F39<>0,F39*$R41,"") | G41: =IF(G39<>0,G39*$R41,"") | H41: =IF(H39<>0,H39*$R41,"") | I41: =IF(I39<>0,I39*$R41,"") | J41: =IF(J39<>0,J39*$R41,"") | K41: =IF(K39<>0,K39*$R41,"") | P41: =IF(P39<>0,P39*$R41,"") | Q41: =IF(Q39<>0,Q39*$R41,"") | R41: =#REF! -> #REF! | S41: 7 | T41: =VLOOKUP(S41,resumoreforma,3,0) -> #NAME? | U41: =R41=T41 -> #REF!
A42: 8 | B42: =#REF! -> #REF! | R42: =SUM(C42:Q42) -> 0
C44: =IF(C42<>0,C42*$R44,"") | D44: =IF(D42<>0,D42*$R44,"") | E44: =IF(E42<>0,E42*$R44,"") | F44: =IF(F42<>0,F42*$R44,"") | G44: =IF(G42<>0,G42*$R44,"") | H44: =IF(H42<>0,H42*$R44,"") | I44: =IF(I42<>0,I42*$R44,"") | J44: =IF(J42<>0,J42*$R44,"") | K44: =IF(K42<>0,K42*$R44,"") | P44: =IF(P42<>0,P42*$R44,"") | Q44: =IF(Q42<>0,Q42*$R44,"") | R44: =#REF! -> #REF! | S44: 8 | T44: =VLOOKUP(S44,resumoreforma,3,0) -> #NAME? | U44: =R44=T44 -> #REF!
A45: 9 | B45: =#REF! -> #REF! | R45: =SUM(C45:Q45) -> 0
C47: =IF(C45<>0,C45*$R47,"") | D47: =IF(D45<>0,D45*$R47,"") | E47: =IF(E45<>0,E45*$R47,"") | F47: =IF(F45<>0,F45*$R47,"") | G47: =IF(G45<>0,G45*$R47,"") | H47: =IF(H45<>0,H45*$R47,"") | I47: =IF(I45<>0,I45*$R47,"") | J47: =IF(J45<>0,J45*$R47,"") | K47: =IF(K45<>0,K45*$R47,"") | P47: =IF(P45<>0,P45*$R47,"") | Q47: =IF(Q45<>0,Q45*$R47,"") | R47: =#REF! -> #REF! | S47: 9 | T47: =VLOOKUP(S47,resumoreforma,3,0) -> #NAME? | U47: =R47=T47 -> #REF!
A48: 10 | B48: =#REF! -> #REF! | R48: =SUM(C48:Q48) -> 0
C50: =IF(C48<>0,C48*$R50,"") | D50: =IF(D48<>0,D48*$R50,"") | E50: =IF(E48<>0,E48*$R50,"") | F50: =IF(F48<>0,F48*$R50,"") | G50: =IF(G48<>0,G48*$R50,"") | H50: =IF(H48<>0,H48*$R50,"") | I50: =IF(I48<>0,I48*$R50,"") | J50: =IF(J48<>0,J48*$R50,"") | K50: =IF(K48<>0,K48*$R50,"") | P50: =IF(P48<>0,P48*$R50,"") | Q50: =IF(Q48<>0,Q48*$R50,"") | R50: =#REF! -> #REF! | S50: 10 | T50: =VLOOKUP(S50,resumoreforma,3,0) -> #NAME? | U50: =R50=T50 -> #REF!
A51: 11 | B51: =#REF! -> #REF! | R51: =SUM(C51:Q51) -> 0
C53: =IF(C51<>0,C51*$R53,"") | D53: =IF(D51<>0,D51*$R53,"") | E53: =IF(E51<>0,E51*$R53,"") | F53: =IF(F51<>0,F51*$R53,"") | G53: =IF(G51<>0,G51*$R53,"") | H53: =IF(H51<>0,H51*$R53,"") | I53: =IF(I51<>0,I51*$R53,"") | J53: =IF(J51<>0,J51*$R53,"") | K53: =IF(K51<>0,K51*$R53,"") | P53: =IF(P51<>0,P51*$R53,"") | Q53: =IF(Q51<>0,Q51*$R53,"") | R53: =#REF! -> #REF! | S53: 11 | T53: =VLOOKUP(S53,resumoreforma,3,0) -> #NAME? | U53: =R53=T53 -> #REF!
A54: 12 | B54: =#REF! -> #REF! | R54: =SUM(C54:Q54) -> 0
C56: =IF(C54<>0,C54*$R56,"") | D56: =IF(D54<>0,D54*$R56,"") | E56: =IF(E54<>0,E54*$R56,"") | F56: =IF(F54<>0,F54*$R56,"") | G56: =IF(G54<>0,G54*$R56,"") | H56: =IF(H54<>0,H54*$R56,"") | I56: =IF(I54<>0,I54*$R56,"") | J56: =IF(J54<>0,J54*$R56,"") | K56: =IF(K54<>0,K54*$R56,"") | P56: =IF(P54<>0,P54*$R56,"") | Q56: =IF(Q54<>0,Q54*$R56,"") | R56: =#REF! -> #REF! | S56: 12 | T56: =VLOOKUP(S56,resumoreforma,3,0) -> #NAME? | U56: =R56=T56 -> #REF!
A57: 13 | B57: =#REF! -> #REF! | R57: =SUM(C57:Q57) -> 0
C59: =IF(C57<>0,C57*$R59,"") | D59: =IF(D57<>0,D57*$R59,"") | E59: =IF(E57<>0,E57*$R59,"") | F59: =IF(F57<>0,F57*$R59,"") | G59: =IF(G57<>0,G57*$R59,"") | H59: =IF(H57<>0,H57*$R59,"") | I59: =IF(I57<>0,I57*$R59,"") | J59: =IF(J57<>0,J57*$R59,"") | K59: =IF(K57<>0,K57*$R59,"") | P59: =IF(P57<>0,P57*$R59,"") | Q59: =IF(Q57<>0,Q57*$R59,"") | R59: =#REF! -> #REF! | S59: 13 | T59: =VLOOKUP(S59,resumoreforma,3,0) -> #NAME? | U59: =R59=T59 -> #REF!
A60: 14 | B60: =#REF! -> #REF! | R60: =SUM(C60:Q60) -> 0
C62: =IF(C60<>0,C60*$R62,"") | D62: =IF(D60<>0,D60*$R62,"") | E62: =IF(E60<>0,E60*$R62,"") | F62: =IF(F60<>0,F60*$R62,"") | G62: =IF(G60<>0,G60*$R62,"") | H62: =IF(H60<>0,H60*$R62,"") | I62: =IF(I60<>0,I60*$R62,"") | J62: =IF(J60<>0,J60*$R62,"") | K62: =IF(K60<>0,K60*$R62,"") | P62: =IF(P60<>0,P60*$R62,"") | Q62: =IF(Q60<>0,Q60*$R62,"") | R62: =#REF! -> #REF! | S62: 14 | T62: =VLOOKUP(S62,resumoreforma,3,0) -> #NAME? | U62: =R62=T62 -> #REF!
A63: 15 | B63: =#REF! -> #REF! | R63: =SUM(C63:Q63) -> 0
...

Sheet CRONOGRAMA CONSTRUÇÃO
A7: GOVERNO DO ESTADO DO PARÁ
A8: SECRETARIA DE DESENVOLVIMENTO URBANO E OBRAS PÚBLICAS - SEDOP
A9: DIRETORIA TÉCNICA - DITEC
A10: COORDENADORIA DE ORÇAMENTOS E CUSTOS - COCU
A12: ='RESUMO GERAL'!$A$8 -> OBRA: REFORMA DO TERMINAL HIDROVIÁRIO DE ITAITUBA
A13: ='RESUMO GERAL'!$A$9 -> LOCAL: ITAITUBA/PA
A14: ='RESUMO GERAL'!$A$10 -> TABELAS DE REFERÊNCIA: SINAPI ABRIL/2022 - SEDOP MAIO/2022 - (DESONERADAS)
A15: ='RESUMO GERAL'!$A$11 -> DATA: 22/04/2022
A18: CRONOGRAMA FÍSICO-FINANCEIRO
A19: ITEM | B19: DESCRIÇÃO | C19: MESES | R19: TOTAL
C20: 1 | D20: 2 | E20: 3 | F20: 4 | G20: 5 | H20: 6 | I20: 7 | J20: 8 | K20: 9 | L20: 10 | M20: 11 | N20: 12 | O20: 13 | P20: 14 | Q20: 15
A21: 1 | B21: =VLOOKUP(A21,RCON,2,0) -> #NAME? | R21: =SUM(C21:Q21) -> 0
C23: =IF(C21<>0,C21*$R23,"") | D23: =IF(D21<>0,D21*$R23,"") | E23: =IF(E21<>0,E21*$R23,"") | F23: =IF(F21<>0,F21*$R23,"") | G23: =IF(G21<>0,G21*$R23,"") | H23: =IF(H21<>0,H21*$R23,"") | I23: =IF(I21<>0,I21*$R23,"") | J23: =IF(J21<>0,J21*$R23,"") | ... Q23: =IF(Q21<>0,Q21*$R23,"") | R23: =#REF! -> #REF! | S23: 1 | T23: =VLOOKUP(A21,RCON,3,0) -> #NAME? | U23: =R23=T23 -> #REF!
A24: 2 | B24: =VLOOKUP(A24,RCON,2,0) -> #NAME? | R24: =SUM(C24:Q24) -> 0
C26: =IF(C24<>0,C24*$R26,"") | D26: =IF(D24<>0,D24*$R26,"") | E26: =IF(E24<>0,E24*$R26,"") | F26: =IF(F24<>0,F24*$R26,"") | G26: =IF(G24<>0,G24*$R26,"") | H26: =IF(H24<>0,H24*$R26,"") | I26: =IF(I24<>0,I24*$R26,"") | J26: =IF(J24<>0,J24*$R26,"") | ... Q26: =IF(Q24<>0,Q24*$R26,"") | R26: =#REF! -> #REF! | S26: 2 | T26: =VLOOKUP(A24,RCON,3,0) -> #NAME? | U26: =R26=T26 -> #REF!
A27: 3 | B27: =VLOOKUP(A27,RCON,2,0) -> #NAME? | R27: =SUM(C27:Q27) -> 0
C29: =IF(C27<>0,C27*$R29,"") | D29: =IF(D27<>0,D27*$R29,"") | E29: =IF(E27<>0,E27*$R29,"") | F29: =IF(F27<>0,F27*$R29,"") | G29: =IF(G27<>0,G27*$R29,"") | H29: =IF(H27<>0,H27*$R29,"") | I29: =IF(I27<>0,I27*$R29,"") | J29: =IF(J27<>0,J27*$R29,"") | ... Q29: =IF(Q27<>0,Q27*$R29,"") | R29: =#REF! -> #REF! | S29: 3 | T29: =VLOOKUP(A27,RCON,3,0) -> #NAME? | U29: =R29=T29 -> #REF!
A30: 4 | B30: =VLOOKUP(A30,RCON,2,0) -> #NAME? | R30: =SUM(C30:Q30) -> 0
C32: =IF(C30<>0,C30*$R32,"") | D32: =IF(D30<>0,D30*$R32,"") | E32: =IF(E30<>0,E30*$R32,"") | F32: =IF(F30<>0,F30*$R32,"") | G32: =IF(G30<>0,G30*$R32,"") | H32: =IF(H30<>0,H30*$R32,"") | I32: =IF(I30<>0,I30*$R32,"") | J32: =IF(J30<>0,J30*$R32,"") | ... Q32: =IF(Q30<>0,Q30*$R32,"") | R32: =#REF! -> #REF! | S32: 4 | T32: =VLOOKUP(A30,RCON,3,0) -> #NAME? | U32: =R32=T32 -> #REF!
A33: 5 | B33: =VLOOKUP(A33,RCON,2,0) -> #NAME? | R33: =SUM(C33:Q33) -> 0
C35: =IF(C33<>0,C33*$R35,"") | D35: =IF(D33<>0,D33*$R35,"") | E35: =IF(E33<>0,E33*$R35,"") | F35: =IF(F33<>0,F33*$R35,"") | G35: =IF(G33<>0,G33*$R35,"") | H35: =IF(H33<>0,H33*$R35,"") | I35: =IF(I33<>0,I33*$R35,"") | J35: =IF(J33<>0,J33*$R35,"") | ... Q35: =IF(Q33<>0,Q33*$R35,"") | R35: =#REF! -> #REF! | S35: 5 | T35: =VLOOKUP(A33,RCON,3,0) -> #NAME? | U35: =R35=T35 -> #REF!
A36: 6 | B36: =VLOOKUP(A36,RCON,2,0) -> #NAME? | R36: =SUM(C36:Q36) -> 0
C38: =IF(C36<>0,C36*$R38,"") | D38: =IF(D36<>0,D36*$R38,"") | E38: =IF(E36<>0,E36*$R38,"") | F38: =IF(F36<>0,F36*$R38,"") | G38: =IF(G36<>0,G36*$R38,"") | H38: =IF(H36<>0,H36*$R38,"") | I38: =IF(I36<>0,I36*$R38,"") | J38: =IF(J36<>0,J36*$R38,"") | ... Q38: =IF(Q36<>0,Q36*$R38,"") | R38: =#REF! -> #REF! | S38: 6 | T38: =VLOOKUP(A36,RCON,3,0) -> #NAME? | U38: =R38=T38 -> #REF!
A39: 7 | B39: =VLOOKUP(A39,RCON,2,0) -> #NAME? | R39: =SUM(C39:Q39) -> 0
C41: =IF(C39<>0,C39*$R41,"") | D41: =IF(D39<>0,D39*$R41,"") | E41: =IF(E39<>0,E39*$R41,"") | F41: =IF(F39<>0,F39*$R41,"") | G41: =IF(G39<>0,G39*$R41,"") | H41: =IF(H39<>0,H39*$R41,"") | I41: =IF(I39<>0,I39*$R41,"") | J41: =IF(J39<>0,J39*$R41,"") | ... Q41: =IF(Q39<>0,Q39*$R41,"") | R41: =#REF! -> #REF! | S41: 7 | T41: =VLOOKUP(A39,RCON,3,0) -> #NAME? | U41: =R41=T41 -> #REF!
A42: 8 | B42: =VLOOKUP(A42,RCON,2,0) -> #NAME? | R42: =SUM(C42:Q42) -> 0
C44: =IF(C42<>0,C42*$R44,"") | D44: =IF(D42<>0,D42*$R44,"") | E44: =IF(E42<>0,E42*$R44,"") | F44: =IF(F42<>0,F42*$R44,"") | G44: =IF(G42<>0,G42*$R44,"") | H44: =IF(H42<>0,H42*$R44,"") | I44: =IF(I42<>0,I42*$R44,"") | J44: =IF(J42<>0,J42*$R44,"") | ... Q44: =IF(Q42<>0,Q42*$R44,"") | R44: =#REF! -> #REF! | S44: 8 | T44: =VLOOKUP(A42,RCON,3,0) -> #NAME? | U44: =R44=T44 -> #REF!
A45: 9 | B45: =VLOOKUP(A45,RCON,2,0) -> #NAME? | R45: =SUM(C45:Q45) -> 0
C47: =IF(C45<>0,C45*$R47,"") | D47: =IF(D45<>0,D45*$R47,"") | E47: =IF(E45<>0,E45*$R47,"") | F47: =IF(F45<>0,F45*$R47,"") | G47: =IF(G45<>0,G45*$R47,"") | H47: =IF(H45<>0,H45*$R47,"") | I47: =IF(I45<>0,I45*$R47,"") | J47: =IF(J45<>0,J45*$R47,"") | ... Q47: =IF(Q45<>0,Q45*$R47,"") | R47: =#REF! -> #REF! | S47: 9 | T47: =VLOOKUP(A45,RCON,3,0) -> #NAME? | U47: =R47=T47 -> #REF!
A48: 10 | B48: =VLOOKUP(A48,RCON,2,0) -> #NAME? | R48: =SUM(C48:Q48) -> 0
C50: =IF(C48<>0,C48*$R50,"") | D50: =IF(D48<>0,D48*$R50,"") | E50: =IF(E48<>0,E48*$R50,"") | F50: =IF(F48<>0,F48*$R50,"") | G50: =IF(G48<>0,G48*$R50,"") | H50: =IF(H48<>0,H48*$R50,"") | I50: =IF(I48<>0,I48*$R50,"") | J50: =IF(J48<>0,J48*$R50,"") | ... Q50: =IF(Q48<>0,Q48*$R50,"") | R50: =#REF! -> #REF! | S50: 10 | T50: =VLOOKUP(A48,RCON,3,0) -> #NAME? | U50: =R50=T50 -> #REF!
A51: 11 | B51: =VLOOKUP(A51,RCON,2,0) -> #NAME? | R51: =SUM(C51:Q51) -> 0
C53: =IF(C51<>0,C51*$R53,"") | D53: =IF(D51<>0,D51*$R53,"") | E53: =IF(E51<>0,E51*$R53,"") | F53: =IF(F51<>0,F51*$R53,"") | G53: =IF(G51<>0,G51*$R53,"") | H53: =IF(H51<>0,H51*$R53,"") | I53: =IF(I51<>0,I51*$R53,"") | J53: =IF(J51<>0,J51*$R53,"") | ... Q53: =IF(Q51<>0,Q51*$R53,"") | R53: =#REF! -> #REF! | S53: 11 | T53: =VLOOKUP(A51,RCON,3,0) -> #NAME? | U53: =R53=T53 -> #REF!
A54: 12 | B54: =VLOOKUP(A54,RCON,2,0) -> #NAME? | R54: =SUM(C54:Q54) -> 0
C56: =IF(C54<>0,C54*$R56,"") | D56: =IF(D54<>0,D54*$R56,"") | E56: =IF(E54<>0,E54*$R56,"") | F56: =IF(F54<>0,F54*$R56,"") | G56: =IF(G54<>0,G54*$R56,"") | H56: =IF(H54<>0,H54*$R56,"") | I56: =IF(I54<>0,I54*$R56,"") | J56: =IF(J54<>0,J54*$R56,"") | ... Q56: =IF(Q54<>0,Q54*$R56,"") | R56: =#REF! -> #REF! | S56: 12 | T56: =VLOOKUP(A54,RCON,3,0) -> #NAME? | U56: =R56=T56 -> #REF!
A57: 13 | B57: =VLOOKUP(A57,RCON,2,0) -> #NAME? | R57: =SUM(C57:Q57) -> 0
C59: =IF(C57<>0,C57*$R59,"") | D59: =IF(D57<>0,D57*$R59,"") | E59: =IF(E57<>0,E57*$R59,"") | F59: =IF(F57<>0,F57*$R59,"") | G59: =IF(G57<>0,G57*$R59,"") | H59: =IF(H57<>0,H57*$R59,"") | I59: =IF(I57<>0,I57*$R59,"") | J59: =IF(J57<>0,J57*$R59,"") | ... Q59: =IF(Q57<>0,Q57*$R59,"") | R59: =#REF! -> #REF! | S59: 13 | T59: =VLOOKUP(A57,RCON,3,0) -> #NAME? | U59: =R59=T59 -> #REF!
A60: 14 | B60: =VLOOKUP(A60,RCON,2,0) -> #NAME? | R60: =SUM(C60:Q60) -> 0
C62: =IF(C60<>0,C60*$R62,"") | D62: =IF(D60<>0,D60*$R62,"") | E62: =IF(E60<>0,E60*$R62,"") | F62: =IF(F60<>0,F60*$R62,"") | G62: =IF(G60<>0,G60*$R62,"") | H62: =IF(H60<>0,H60*$R62,"") | I62: =IF(I60<>0,I60*$R62,"") | J62: =IF(J60<>0,J60*$R62,"") | ... Q62: =IF(Q60<>0,Q60*$R62,"") | R62: =#REF! -> #REF! | S62: 14 | T62: =VLOOKUP(A60,RCON,3,0) -> #NAME? | U62: =R62=T62 -> #REF!
A63: 15 | B63: =VLOOKUP(A63,RCON,2,0) -> #NAME? | R63: =SUM(C63:Q63) -> 0
...

Sheet BDI 30,5%
A9: COMPOSIÇÃO DO BDI - CONSTRUÇÃO DE EDIFÍCIOS
B12: BDI = | C12: [(1 + AC + S + R + G)(1+DF)(1+L)] | G12: -1
C13: (1-I)
B16: AC = Administração Central | F16: 0.0315
B17: S= Seguros | F17: 0.0035
B18: R= Riscos | F18: 0.0097
B19: G= Garantia | F19: 0.0045
B20: DF= Despesas Financeiras | F20: 0.0059
B21: L= Lucro | F21: 0.074
B22: I= Impostos | F22: =SUM(F23:F26) -> 0.1315
C23: ISS | F23: 0.05
C24: PIS | F24: 0.0065
C25: COFINS | F25: 0.03
C26: CPRB | F26: 0.045
B29: BDI = | C29: (1 + 0,0315+ 0,0035 + 0,0097 + 0,0045)(1+0,0059)(1+0,074) | G29: -1
C30: (1-0,1315)
B33: BDI = | C33: =(1 +F16+F17+F18+F19)*(1+F20)*(1+F21) -> 1.1334892 | G33: -1
C34: =(1-F22) -> 0.8685
B36: BDI = | C36: 0.305
A39: Obs. Adequado ao Acordão 2622/2013 do TCU

Sheet BDI 21,00%
A7: GOVERNO DO ESTADO DO PARÁ
A8: SECRETARIA DE DESENVOLVIMENTO URBANO E OBRAS PÚBLICAS - SEDOP
A9: DIRETORIA TÉCNICA - DITEC
A10: COORDENADORIA DE ORÇAMENTOS E CUSTOS - COCU
A14: COMPOSIÇÃO DO BDI DIFERENCIADO
B17: BDI = | C17: [(1 + AC + S + R + G)(1+DF)(1+L)] | G17: -1
C18: (1-I)
B21: AC = Administração Central | F21: 0.013 | I21: =F21 -> 0.013
B22: S= Seguros | F22: 0.0024 | I22: =F22 -> 0.0024
B23: R= Riscos | F23: 0.0025 | I23: =F23 -> 0.0025
B24: G= Garantia | F24: 0.0023 | I24: =F24 -> 0.0023
B25: DF= Despesas Financeiras | F25: 0.005 | I25: =F25 -> 0.005
B26: L= Lucro | F26: 0.025 | I26: =F26 -> 0.025
B27: I= Impostos | F27: =SUM(F28:F31) -> 0.1315 | I27: =F27 -> 0.1315
C28: ISS | F28: 0.05 | I28: =F28 -> 0.05
C29: PIS | F29: 0.0065 | I29: =F29 -> 0.0065
C30: COFINS | F30: 0.03 | I30: =F30 -> 0.03
C31: CPRB | F31: 0.045 | I31: =F31 -> 0.045
B34: BDI = | C34: (1 + 0,013+ 0,0024 + 0,0025 + 0,0023)(1+0,0050)(1+0,0250) | G34: -1
C35: (1-0,1315)
B38: BDI = | C38: =(1 +F21+F22+F23+F24)*(1+F25)*(1+F26) -> 1.0509335 | G38: -1
C39: =(1-F27) -> 0.8685
B41: BDI = | C41: 0.21
A45: Obs. Adequado ao Acordão 2622/2013 do TCU

Sheet LEIS SOCIAIS
A7: TAXA DE ENCARGOS SOCIAIS | D7: HORISTA | E7: MENSALISTA
B8: GRUPO A | D8: % | E8: %
A9: A1 | B9: INSS | D9: 0 | E9: 0
A10: A2 | B10: SESI | D10: 0.015 | E10: 0.015
A11: A3 | B11: SENAI | D11: 0.01 | E11: 0.01
A12: A4 | B12: INCRA | D12: 0.002 | E12: 0.002
A13: A5 | B13: SEBRAE | D13: 0.006 | E13: 0.006
A14: A6 | B14: Salário-educação | D14: 0.025 | E14: 0.025
A15: A7 | B15: Seguro contra acidentes de trabalho | D15: 0.03 | E15: 0.03
A16: A8 | B16: FGTS | D16: 0.08 | E16: 0.08
A17: A9 | B17: SECONCI | D17: 0 | E17: 0
A18: A | B18: Total de Encargos Sociais Básicos | D18: 0.168 | E18: 0.168
B20: GRUPO B | D20: % | E20: %
A21: B1 | B21: Repouso semanal remunerado | D21: 0.1812 | E21: Não incide
A22: B2 | B22: Feriados | D22: 0.0415 | E22: Não incide
A23: B3 | B23: Auxílio - Enfermidade | D23: 0.0087 | E23: 0.0066
A24: B4 | B24: 13º Salário | D24: 0.1111 | E24: 0.0833
A25: B5 | B25: Licença Paternidade | D25: 0.0007 | E25: 0.0006
A26: B6 | B26: Faltas Justificadas | D26: 0.0074 | E26: 0.0056
A27: B7 | B27: Dias de Chuvas | D27: 0.0272 | E27: Não incide
A28: B8 | B28: Auxílio Acidente de Trabalho | D28: 0.0011 | E28: 0.0008
A29: B9 | B29: Férias Gozadas | D29: 0.1124 | E29: 0.0843
A30: B10 | B30: Salário Maternidade | D30: 0.0003 | E30: 0.0002
A31: B | B31: Total de Encargos Sociais que recebem incidências de A | D31: 0.4916 | E31: 0.1814
B33: GRUPO C | D33: % | E33: %
A34: C1 | B34: Aviso Prévio Indenizado | D34: 0.0575 | E34: 0.0432
A35: C2 | B35: Aviso Prévio Trabalhado | D35: 0.0014 | E35: 0.001
A36: C3 | B36: Férias Indenizadas | D36: 0.031 | E36: 0.0232
A37: C4 | B37: Depósito Rescisão Sem Justa Causa | D37: 0.0331 | E37: 0.0249
A38: C5 | B38: Indenização Adicional | D38: 0.0048 | E38: 0.0036
A39: C | B39: Total dos Encargos Sociais que não recebem as incidências globais de A | D39: 0.1278 | E39: 0.0959
B41: GRUPO D | D41: % | E41: %
A42: D1 | B42: Reincidência de A sobre B | D42: 0.0825888 | E42: 0.0304752
A43: D2 | B43: Reincidência de Grupo A sobre Aviso Prévio Trabalhado e Reincidência do FGTS sobre Aviso Prévio Indenizado | D43: 0.0048352 | E43: 0.003624
A44: D | B44: Total das Taxas incidências e reincidências | D44: 0.087424 | E44: 0.0340992
B46: TOTAL DOS ENCARGOS SOCIAIS: | D46: 0.874824 | E46: 0.4793992
A48: OBS.: OS ENCARGOS COMPLEMENTARES DO GRUPO E ESTÃO ALOCADOS NA HORA DE CADA PROFISSIONAL , CONF. METODOLOGIA DO SINAPI

Sheet BDI EQUIP 21%
A4: GOVERNO DO ESTADO DO PARÁ
A5: SECRETARIA DE DESENVOLVIMENTO URBANO E OBRAS PÚBLICAS - SEDOP
A6: DIRETORIA TÉCNICA
A7: COORDENADORIA DE ORÇAMENTO E CUSTOS
A9: COMPOSIÇÃO DO BDI - EQUIPAMENTOS
B12: BDI = | C12: [(1 + AC + S + R + G)(1+DF)(1+L)] | G12: -1
C13: (1-I)
B16: AC = Administração Central | F16: 0.013 | I16: =F16 -> 0.013
B17: S= Seguros | F17: 0.0024 | I17: =F17 -> 0.0024
B18: R= Riscos | F18: 0.0025 | I18: =F18 -> 0.0025
B19: G= Garantia | F19: 0.0023 | I19: =F19 -> 0.0023
B20: DF= Despesas Financeiras | F20: 0.005 | I20: =F20 -> 0.005
B21: L= Lucro | F21: 0.025 | I21: =F21 -> 0.025
B22: I= Impostos | F22: =SUM(F23:F26) -> 0.1315 | I22: =F22 -> 0.1315
C23: ISS | F23: 0.05 | I23: =F23 -> 0.05
C24: PIS | F24: 0.0065 | I24: =F24 -> 0.0065
C25: COFINS | F25: 0.03 | I25: =F25 -> 0.03
C26: CPRB | F26: 0.045 | I26: =F26 -> 0.045
B29: BDI = | C29: (1 + 0,013+ 0,0024 + 0,0025 + 0,0023)(1+0,0050)(1+0,0250) | G29: -1
C30: (1-0,1315)
B33: BDI = | C33: =(1 +F16+F17+F18+F19)*(1+F20)*(1+F21) -> 1.0509335 | G33: -1
C34: =(1-F22) -> 0.8685
B36: BDI = | C36: 0.21
A40: Obs. Adequado ao Acordão 2622/2013 do TCU
